BEGIN:VCALENDAR
VERSION:2.0
PRODID:-//Grenada Conference of Seventh Day Adventists - ECPv6.15.20//NONSGML v1.0//EN
CALSCALE:GREGORIAN
METHOD:PUBLISH
X-ORIGINAL-URL:https://grenadaadventist.org
X-WR-CALDESC:Events for Grenada Conference of Seventh Day Adventists
REFRESH-INTERVAL;VALUE=DURATION:PT1H
X-Robots-Tag:noindex
X-PUBLISHED-TTL:PT1H
BEGIN:VTIMEZONE
TZID:UTC
BEGIN:STANDARD
TZOFFSETFROM:+0000
TZOFFSETTO:+0000
TZNAME:UTC
DTSTART:20160101T000000
END:STANDARD
END:VTIMEZONE
BEGIN:VEVENT
DTSTART;VALUE=DATE:20170812
DTEND;VALUE=DATE:20170813
DTSTAMP:20260423T223144
CREATED:20170622T233808Z
LAST-MODIFIED:20170622T233808Z
UID:611-1502496000-1502582399@grenadaadventist.org
SUMMARY:District Bible Boom Finals (Jacobs Award)
DESCRIPTION:
URL:https://grenadaadventist.org/event/district-bible-boom-finals-jacobs-award/
CATEGORIES:Youth Ministry
END:VEVENT
BEGIN:VEVENT
DTSTART;VALUE=DATE:20170807
DTEND;VALUE=DATE:20170808
DTSTAMP:20260423T223144
CREATED:20170622T233655Z
LAST-MODIFIED:20170622T233655Z
UID:608-1502064000-1502150399@grenadaadventist.org
SUMMARY:National Sports Day
DESCRIPTION:
URL:https://grenadaadventist.org/event/national-sports-day/
LOCATION:Tanteen\, Tanteen\, St George\, 473\, Grenada
CATEGORIES:Youth Ministry
END:VEVENT
BEGIN:VEVENT
DTSTART;VALUE=DATE:20170805
DTEND;VALUE=DATE:20170806
DTSTAMP:20260423T223144
CREATED:20170622T230059Z
LAST-MODIFIED:20170622T230059Z
UID:602-1501891200-1501977599@grenadaadventist.org
SUMMARY:Adventist Youth Day
DESCRIPTION:
URL:https://grenadaadventist.org/event/adventist-youth-day/
CATEGORIES:Youth Ministry
END:VEVENT
BEGIN:VEVENT
DTSTART;VALUE=DATE:20170714
DTEND;VALUE=DATE:20170718
DTSTAMP:20260423T223144
CREATED:20170622T221411Z
LAST-MODIFIED:20170622T221411Z
UID:585-1499990400-1500335999@grenadaadventist.org
SUMMARY:Adventurers Camp @ Campsite
DESCRIPTION:
URL:https://grenadaadventist.org/event/adventurers-camp-campsite/
LOCATION:Campsite
CATEGORIES:Youth Ministry
END:VEVENT
BEGIN:VEVENT
DTSTART;VALUE=DATE:20170701
DTEND;VALUE=DATE:20170703
DTSTAMP:20260423T223144
CREATED:20170622T220935Z
LAST-MODIFIED:20170622T220935Z
UID:579-1498867200-1499039999@grenadaadventist.org
SUMMARY:Church Bible Boom Finals (Abrahams' Award)
DESCRIPTION:
URL:https://grenadaadventist.org/event/church-bible-boom-finals-abrahams-award/
CATEGORIES:Youth Ministry
END:VEVENT
BEGIN:VEVENT
DTSTART;TZID=UTC:20170623T080000
DTEND;TZID=UTC:20170623T170000
DTSTAMP:20260423T223144
CREATED:20170623T201342Z
LAST-MODIFIED:20170623T201342Z
UID:677-1498204800-1498237200@grenadaadventist.org
SUMMARY:Senior Youth Congress @Suriname
DESCRIPTION:
URL:https://grenadaadventist.org/event/senior-youth-congress-suriname/
LOCATION:Suriname\, Suriname
CATEGORIES:Youth Ministry
END:VEVENT
BEGIN:VEVENT
DTSTART;VALUE=DATE:20170519
DTEND;VALUE=DATE:20170520
DTSTAMP:20260423T223144
CREATED:20170519T202437Z
LAST-MODIFIED:20170604T230953Z
UID:135-1495152000-1495238399@grenadaadventist.org
SUMMARY:National Beach Picnic
DESCRIPTION:
URL:https://grenadaadventist.org/event/national-beach-picnic/
LOCATION:Bathway Beach
CATEGORIES:Youth Ministry
END:VEVENT
END:VCALENDAR