BEGIN:VCALENDAR
VERSION:2.0
PRODID:-//Grenada Conference of Seventh Day Adventists - ECPv6.15.20//NONSGML v1.0//EN
CALSCALE:GREGORIAN
METHOD:PUBLISH
X-ORIGINAL-URL:https://grenadaadventist.org
X-WR-CALDESC:Events for Grenada Conference of Seventh Day Adventists
REFRESH-INTERVAL;VALUE=DURATION:PT1H
X-Robots-Tag:noindex
X-PUBLISHED-TTL:PT1H
BEGIN:VTIMEZONE
TZID:UTC
BEGIN:STANDARD
TZOFFSETFROM:+0000
TZOFFSETTO:+0000
TZNAME:UTC
DTSTART:20160101T000000
END:STANDARD
END:VTIMEZONE
BEGIN:VEVENT
DTSTART;VALUE=DATE:20190406
DTEND;VALUE=DATE:20190407
DTSTAMP:20260423T210705
CREATED:20190212T195008Z
LAST-MODIFIED:20190212T195008Z
UID:3028-1554508800-1554595199@grenadaadventist.org
SUMMARY:Singles Women’s Retreat
DESCRIPTION:
URL:https://grenadaadventist.org/event/singles-womens-retreat/
CATEGORIES:Education,Family Life,Womens Ministry
END:VEVENT
BEGIN:VEVENT
DTSTART;VALUE=DATE:20190302
DTEND;VALUE=DATE:20190303
DTSTAMP:20260423T210705
CREATED:20190212T192754Z
LAST-MODIFIED:20190212T192754Z
UID:2990-1551484800-1551571199@grenadaadventist.org
SUMMARY:Women’s Day of Prayer
DESCRIPTION:
URL:https://grenadaadventist.org/event/womens-day-of-prayer/
CATEGORIES:Stewardship,Womens Ministry
END:VEVENT
BEGIN:VEVENT
DTSTART;VALUE=DATE:20190209
DTEND;VALUE=DATE:20190217
DTSTAMP:20260423T210705
CREATED:20190212T191946Z
LAST-MODIFIED:20190212T191946Z
UID:2978-1549670400-1550361599@grenadaadventist.org
SUMMARY:Christian Home and Marriage Week
DESCRIPTION:
URL:https://grenadaadventist.org/event/christian-home-and-marriage-week-2/
CATEGORIES:Education,Family Life,Men's Ministry,Ministerial,Womens Ministry
END:VEVENT
BEGIN:VEVENT
DTSTART;VALUE=DATE:20180226
DTEND;VALUE=DATE:20180227
DTSTAMP:20260423T210705
CREATED:20180115T211609Z
LAST-MODIFIED:20180115T211609Z
UID:2046-1519603200-1519689599@grenadaadventist.org
SUMMARY:Shepherdesses Seminar
DESCRIPTION:
URL:https://grenadaadventist.org/event/shepherdesses-seminar/
CATEGORIES:Womens Ministry
END:VEVENT
BEGIN:VEVENT
DTSTART;VALUE=DATE:20180121
DTEND;VALUE=DATE:20180122
DTSTAMP:20260423T210705
CREATED:20180115T203715Z
LAST-MODIFIED:20180115T203715Z
UID:2006-1516492800-1516579199@grenadaadventist.org
SUMMARY:Women's Ministries Directors and Assistants Lakeside Meeting
DESCRIPTION:
URL:https://grenadaadventist.org/event/womens-ministries-directors-and-assistants-lakeside-meeting/
LOCATION:Grand Etang\, Grenada
CATEGORIES:Womens Ministry
END:VEVENT
BEGIN:VEVENT
DTSTART;VALUE=DATE:20170826
DTEND;VALUE=DATE:20170827
DTSTAMP:20260423T210705
CREATED:20170622T234300Z
LAST-MODIFIED:20170817T172223Z
UID:619-1503705600-1503791999@grenadaadventist.org
SUMMARY:End it now day
DESCRIPTION:All church of the Grenada Conference
URL:https://grenadaadventist.org/event/enditnow-day/
LOCATION:All Churces\, Grenada
CATEGORIES:Womens Ministry
ATTACH;FMTTYPE=image/jpeg:https://grenadaadventist.org/wp-content/uploads/2017/06/children-ministries.jpg
END:VEVENT
BEGIN:VEVENT
DTSTART;VALUE=DATE:20170721
DTEND;VALUE=DATE:20170724
DTSTAMP:20260423T210705
CREATED:20170622T222145Z
LAST-MODIFIED:20170622T222145Z
UID:592-1500595200-1500854399@grenadaadventist.org
SUMMARY:Gems Retreat
DESCRIPTION:
URL:https://grenadaadventist.org/event/gems-retreat/
LOCATION:Grenada Comprehensive SDA School\, St. Patrick\,\, Mount Rose\, Grenada\, 473\, Grenada
CATEGORIES:Womens Ministry
END:VEVENT
END:VCALENDAR