BEGIN:VCALENDAR
VERSION:2.0
PRODID:-//Grenada Conference of Seventh Day Adventists - ECPv6.15.20//NONSGML v1.0//EN
CALSCALE:GREGORIAN
METHOD:PUBLISH
X-WR-CALNAME:Grenada Conference of Seventh Day Adventists
X-ORIGINAL-URL:https://grenadaadventist.org
X-WR-CALDESC:Events for Grenada Conference of Seventh Day Adventists
REFRESH-INTERVAL;VALUE=DURATION:PT1H
X-Robots-Tag:noindex
X-PUBLISHED-TTL:PT1H
BEGIN:VTIMEZONE
TZID:UTC
BEGIN:STANDARD
TZOFFSETFROM:+0000
TZOFFSETTO:+0000
TZNAME:UTC
DTSTART:20160101T000000
END:STANDARD
END:VTIMEZONE
BEGIN:VEVENT
DTSTART;VALUE=DATE:20190413
DTEND;VALUE=DATE:20190414
DTSTAMP:20260423T191738
CREATED:20190212T195212Z
LAST-MODIFIED:20190212T195212Z
UID:3032-1555113600-1555199999@grenadaadventist.org
SUMMARY:Community Guest Day
DESCRIPTION:
URL:https://grenadaadventist.org/event/community-guest-day/
LOCATION:All Pastoral Districts\, Grenada
CATEGORIES:Community Services,Personal Ministries,Sabbath School
END:VEVENT
BEGIN:VEVENT
DTSTART;TZID=UTC:20180223T080000
DTEND;TZID=UTC:20180225T170000
DTSTAMP:20260423T191738
CREATED:20180115T210449Z
LAST-MODIFIED:20180115T210449Z
UID:2039-1519372800-1519578000@grenadaadventist.org
SUMMARY:Teachers and VS Directors Training
DESCRIPTION:
URL:https://grenadaadventist.org/event/teachers-and-vs-directors-training/
LOCATION:Sams Inn\, Grenada
CATEGORIES:Childrens Ministry,Education,Sabbath School
END:VEVENT
BEGIN:VEVENT
DTSTART;VALUE=DATE:20171028
DTEND;VALUE=DATE:20171029
DTSTAMP:20260423T191738
CREATED:20170623T205031Z
LAST-MODIFIED:20170623T205031Z
UID:713-1509148800-1509235199@grenadaadventist.org
SUMMARY:Experiencing the Transformation Baptism Day (Selected Sites)
DESCRIPTION:
URL:https://grenadaadventist.org/event/experiencing-the-transformation-baptism-day-selected-sites/
CATEGORIES:Personal Ministries,Sabbath School
END:VEVENT
BEGIN:VEVENT
DTSTART;VALUE=DATE:20170923
DTEND;VALUE=DATE:20170924
DTSTAMP:20260423T191738
CREATED:20170623T201638Z
LAST-MODIFIED:20170623T201638Z
UID:684-1506124800-1506211199@grenadaadventist.org
SUMMARY:Sabbath School Guest Day
DESCRIPTION:
URL:https://grenadaadventist.org/event/sabbath-school-guest-day/
CATEGORIES:Sabbath School
END:VEVENT
BEGIN:VEVENT
DTSTART;VALUE=DATE:20170909
DTEND;VALUE=DATE:20170910
DTSTAMP:20260423T191738
CREATED:20170623T200909Z
LAST-MODIFIED:20170623T200909Z
UID:669-1504915200-1505001599@grenadaadventist.org
SUMMARY:Recognition day for LTM based home (All Homes)
DESCRIPTION:
URL:https://grenadaadventist.org/event/recognition-day-for-ltm-based-home-all-homes/
CATEGORIES:Personal Ministries,Sabbath School
END:VEVENT
BEGIN:VEVENT
DTSTART;VALUE=DATE:20170603
DTEND;VALUE=DATE:20170604
DTSTAMP:20260423T191738
CREATED:20170519T202303Z
LAST-MODIFIED:20170604T230936Z
UID:131-1496448000-1496534399@grenadaadventist.org
SUMMARY:Reach the World: Bible Study: Sabbath School and Correspondence Course
DESCRIPTION:
URL:https://grenadaadventist.org/event/reach-the-world-bible-study-sabbath-school-and-correspondence-course/
CATEGORIES:Sabbath School
END:VEVENT
END:VCALENDAR