BEGIN:VCALENDAR
VERSION:2.0
PRODID:-//Grenada Conference of Seventh Day Adventists - ECPv6.15.20//NONSGML v1.0//EN
CALSCALE:GREGORIAN
METHOD:PUBLISH
X-ORIGINAL-URL:https://grenadaadventist.org
X-WR-CALDESC:Events for Grenada Conference of Seventh Day Adventists
REFRESH-INTERVAL;VALUE=DURATION:PT1H
X-Robots-Tag:noindex
X-PUBLISHED-TTL:PT1H
BEGIN:VTIMEZONE
TZID:UTC
BEGIN:STANDARD
TZOFFSETFROM:+0000
TZOFFSETTO:+0000
TZNAME:UTC
DTSTART:20170101T000000
END:STANDARD
END:VTIMEZONE
BEGIN:VEVENT
DTSTART;VALUE=DATE:20180120
DTEND;VALUE=DATE:20180121
DTSTAMP:20260424T015233
CREATED:20180115T203139Z
LAST-MODIFIED:20180115T203139Z
UID:2001-1516406400-1516492799@grenadaadventist.org
SUMMARY:Religious Liberty Day
DESCRIPTION:
URL:https://grenadaadventist.org/event/religious-liberty-day/
CATEGORIES:Religious Liberty
END:VEVENT
END:VCALENDAR