BEGIN:VCALENDAR
VERSION:2.0
PRODID:-//Grenada Conference of Seventh Day Adventists - ECPv6.15.20//NONSGML v1.0//EN
CALSCALE:GREGORIAN
METHOD:PUBLISH
X-ORIGINAL-URL:https://grenadaadventist.org
X-WR-CALDESC:Events for Grenada Conference of Seventh Day Adventists
REFRESH-INTERVAL;VALUE=DURATION:PT1H
X-Robots-Tag:noindex
X-PUBLISHED-TTL:PT1H
BEGIN:VTIMEZONE
TZID:UTC
BEGIN:STANDARD
TZOFFSETFROM:+0000
TZOFFSETTO:+0000
TZNAME:UTC
DTSTART:20200101T000000
END:STANDARD
END:VTIMEZONE
BEGIN:VTIMEZONE
TZID:America/Halifax
BEGIN:DAYLIGHT
TZOFFSETFROM:-0400
TZOFFSETTO:-0300
TZNAME:ADT
DTSTART:20200308T060000
END:DAYLIGHT
BEGIN:STANDARD
TZOFFSETFROM:-0300
TZOFFSETTO:-0400
TZNAME:AST
DTSTART:20201101T050000
END:STANDARD
BEGIN:DAYLIGHT
TZOFFSETFROM:-0400
TZOFFSETTO:-0300
TZNAME:ADT
DTSTART:20210314T060000
END:DAYLIGHT
BEGIN:STANDARD
TZOFFSETFROM:-0300
TZOFFSETTO:-0400
TZNAME:AST
DTSTART:20211107T050000
END:STANDARD
BEGIN:DAYLIGHT
TZOFFSETFROM:-0400
TZOFFSETTO:-0300
TZNAME:ADT
DTSTART:20220313T060000
END:DAYLIGHT
BEGIN:STANDARD
TZOFFSETFROM:-0300
TZOFFSETTO:-0400
TZNAME:AST
DTSTART:20221106T050000
END:STANDARD
END:VTIMEZONE
BEGIN:VEVENT
DTSTART;TZID=UTC:20210106T050000
DTEND;TZID=UTC:20210116T170000
DTSTAMP:20260423T161816
CREATED:20210113T023346Z
LAST-MODIFIED:20210113T023346Z
UID:5143-1609909200-1610816400@grenadaadventist.org
SUMMARY:10 Days of Prayer
DESCRIPTION:
URL:https://grenadaadventist.org/event/10-days-of-prayer/
LOCATION:All Churces\, Grenada
CATEGORIES:Prayer Ministries
END:VEVENT
BEGIN:VEVENT
DTSTART;TZID=America/Halifax:20210106T043000
DTEND;TZID=America/Halifax:20210214T173000
DTSTAMP:20260423T161816
CREATED:20210113T013619Z
LAST-MODIFIED:20210113T013916Z
UID:5140-1609907400-1613323800@grenadaadventist.org
SUMMARY:40 Days of Prayer
DESCRIPTION:
URL:https://grenadaadventist.org/event/40-days-of-prayer/
CATEGORIES:Prayer Ministries
END:VEVENT
END:VCALENDAR