BEGIN:VCALENDAR
VERSION:2.0
PRODID:-//Grenada Conference of Seventh Day Adventists - ECPv6.15.20//NONSGML v1.0//EN
CALSCALE:GREGORIAN
METHOD:PUBLISH
X-ORIGINAL-URL:https://grenadaadventist.org
X-WR-CALDESC:Events for Grenada Conference of Seventh Day Adventists
REFRESH-INTERVAL;VALUE=DURATION:PT1H
X-Robots-Tag:noindex
X-PUBLISHED-TTL:PT1H
BEGIN:VTIMEZONE
TZID:UTC
BEGIN:STANDARD
TZOFFSETFROM:+0000
TZOFFSETTO:+0000
TZNAME:UTC
DTSTART:20160101T000000
END:STANDARD
END:VTIMEZONE
BEGIN:VEVENT
DTSTART;TZID=UTC:20180210T090000
DTEND;TZID=UTC:20180211T170000
DTSTAMP:20260423T192132
CREATED:20180115T205711Z
LAST-MODIFIED:20180115T205711Z
UID:2029-1518253200-1518368400@grenadaadventist.org
SUMMARY:Bible Workers and Lay Preachers Laboratory
DESCRIPTION:
URL:https://grenadaadventist.org/event/bible-workers-and-lay-preachers-laboratory/
CATEGORIES:Ministerial,Personal Ministries,Stewardship
END:VEVENT
BEGIN:VEVENT
DTSTART;VALUE=DATE:20171028
DTEND;VALUE=DATE:20171029
DTSTAMP:20260423T192132
CREATED:20170623T205031Z
LAST-MODIFIED:20170623T205031Z
UID:713-1509148800-1509235199@grenadaadventist.org
SUMMARY:Experiencing the Transformation Baptism Day (Selected Sites)
DESCRIPTION:
URL:https://grenadaadventist.org/event/experiencing-the-transformation-baptism-day-selected-sites/
CATEGORIES:Personal Ministries,Sabbath School
END:VEVENT
BEGIN:VEVENT
DTSTART;VALUE=DATE:20171006
DTEND;VALUE=DATE:20171029
DTSTAMP:20260423T192132
CREATED:20170623T203039Z
LAST-MODIFIED:20170623T203039Z
UID:693-1507248000-1509235199@grenadaadventist.org
SUMMARY:Media Ministries Online Crusade
DESCRIPTION:
URL:https://grenadaadventist.org/event/media-ministries-online-crusade/
CATEGORIES:Communication,Personal Ministries
END:VEVENT
BEGIN:VEVENT
DTSTART;VALUE=DATE:20170930
DTEND;VALUE=DATE:20171001
DTSTAMP:20260423T192132
CREATED:20170623T201809Z
LAST-MODIFIED:20170623T201809Z
UID:686-1506729600-1506815999@grenadaadventist.org
SUMMARY:Experiencing the Transformation 2017 Baptism Day (Selected Sites)
DESCRIPTION:
URL:https://grenadaadventist.org/event/experiencing-the-transformation-2017-baptism-day-selected-sites/
CATEGORIES:Personal Ministries
END:VEVENT
BEGIN:VEVENT
DTSTART;VALUE=DATE:20170909
DTEND;VALUE=DATE:20170910
DTSTAMP:20260423T192132
CREATED:20170623T200909Z
LAST-MODIFIED:20170623T200909Z
UID:669-1504915200-1505001599@grenadaadventist.org
SUMMARY:Recognition day for LTM based home (All Homes)
DESCRIPTION:
URL:https://grenadaadventist.org/event/recognition-day-for-ltm-based-home-all-homes/
CATEGORIES:Personal Ministries,Sabbath School
END:VEVENT
BEGIN:VEVENT
DTSTART;VALUE=DATE:20170826
DTEND;VALUE=DATE:20170827
DTSTAMP:20260423T192132
CREATED:20170622T234552Z
LAST-MODIFIED:20170622T234552Z
UID:625-1503705600-1503791999@grenadaadventist.org
SUMMARY:Experience the Transformation Baptism Day (Selected Sites)
DESCRIPTION:
URL:https://grenadaadventist.org/event/experience-the-transformation-baptism-day-selected-sites/
CATEGORIES:Personal Ministries
END:VEVENT
BEGIN:VEVENT
DTSTART;VALUE=DATE:20170826
DTEND;VALUE=DATE:20170827
DTSTAMP:20260423T192132
CREATED:20170622T234405Z
LAST-MODIFIED:20170622T234405Z
UID:621-1503705600-1503791999@grenadaadventist.org
SUMMARY:Lay Evangelism-Divisions
DESCRIPTION:
URL:https://grenadaadventist.org/event/lay-evangelism-divisions/
CATEGORIES:Personal Ministries
END:VEVENT
BEGIN:VEVENT
DTSTART;VALUE=DATE:20170812
DTEND;VALUE=DATE:20170813
DTSTAMP:20260423T192132
CREATED:20170622T233905Z
LAST-MODIFIED:20170622T233905Z
UID:613-1502496000-1502582399@grenadaadventist.org
SUMMARY:Reach the World - Church Planting
DESCRIPTION:
URL:https://grenadaadventist.org/event/reach-the-world-church-planting/
CATEGORIES:Personal Ministries
END:VEVENT
BEGIN:VEVENT
DTSTART;VALUE=DATE:20170715
DTEND;VALUE=DATE:20170716
DTSTAMP:20260423T192132
CREATED:20170622T221537Z
LAST-MODIFIED:20170622T221537Z
UID:588-1500076800-1500163199@grenadaadventist.org
SUMMARY:Reach the World: Media Ministry
DESCRIPTION:
URL:https://grenadaadventist.org/event/reach-the-world-media-ministry/
CATEGORIES:Communication,Personal Ministries
END:VEVENT
BEGIN:VEVENT
DTSTART;VALUE=DATE:20170701
DTEND;VALUE=DATE:20170702
DTSTAMP:20260423T192132
CREATED:20170622T220801Z
LAST-MODIFIED:20170622T220801Z
UID:577-1498867200-1498953599@grenadaadventist.org
SUMMARY:Launch of LTM Home Based Ministry (Phase 2)
DESCRIPTION:
URL:https://grenadaadventist.org/event/launch-of-ltm-home-based-ministry-phase-2/
CATEGORIES:Personal Ministries
END:VEVENT
BEGIN:VEVENT
DTSTART;VALUE=DATE:20170601
DTEND;VALUE=DATE:20170701
DTSTAMP:20260423T192132
CREATED:20170519T201152Z
LAST-MODIFIED:20170604T232335Z
UID:126-1496275200-1498867199@grenadaadventist.org
SUMMARY:Conserve & Disciple Emphasis Month
DESCRIPTION:
URL:https://grenadaadventist.org/event/conserve-disciple-emphasis-month/
CATEGORIES:Personal Ministries
ATTACH;FMTTYPE=image/jpeg:https://grenadaadventist.org/wp-content/uploads/2017/05/pm-icon.jpg
END:VEVENT
END:VCALENDAR