BEGIN:VCALENDAR
VERSION:2.0
PRODID:-//Grenada Conference of Seventh Day Adventists - ECPv6.15.20//NONSGML v1.0//EN
CALSCALE:GREGORIAN
METHOD:PUBLISH
X-ORIGINAL-URL:https://grenadaadventist.org
X-WR-CALDESC:Events for Grenada Conference of Seventh Day Adventists
REFRESH-INTERVAL;VALUE=DURATION:PT1H
X-Robots-Tag:noindex
X-PUBLISHED-TTL:PT1H
BEGIN:VTIMEZONE
TZID:UTC
BEGIN:STANDARD
TZOFFSETFROM:+0000
TZOFFSETTO:+0000
TZNAME:UTC
DTSTART:20180101T000000
END:STANDARD
END:VTIMEZONE
BEGIN:VEVENT
DTSTART;VALUE=DATE:20190209
DTEND;VALUE=DATE:20190217
DTSTAMP:20260424T000803
CREATED:20190212T191946Z
LAST-MODIFIED:20190212T191946Z
UID:2978-1549670400-1550361599@grenadaadventist.org
SUMMARY:Christian Home and Marriage Week
DESCRIPTION:
URL:https://grenadaadventist.org/event/christian-home-and-marriage-week-2/
CATEGORIES:Education,Family Life,Men's Ministry,Ministerial,Womens Ministry
END:VEVENT
END:VCALENDAR