BEGIN:VCALENDAR
VERSION:2.0
PRODID:-//Grenada Conference of Seventh Day Adventists - ECPv6.15.20//NONSGML v1.0//EN
CALSCALE:GREGORIAN
METHOD:PUBLISH
X-ORIGINAL-URL:https://grenadaadventist.org
X-WR-CALDESC:Events for Grenada Conference of Seventh Day Adventists
REFRESH-INTERVAL;VALUE=DURATION:PT1H
X-Robots-Tag:noindex
X-PUBLISHED-TTL:PT1H
BEGIN:VTIMEZONE
TZID:UTC
BEGIN:STANDARD
TZOFFSETFROM:+0000
TZOFFSETTO:+0000
TZNAME:UTC
DTSTART:20160101T000000
END:STANDARD
END:VTIMEZONE
BEGIN:VEVENT
DTSTART;VALUE=DATE:20170902
DTEND;VALUE=DATE:20170910
DTSTAMP:20260423T210704
CREATED:20170623T200624Z
LAST-MODIFIED:20170623T200624Z
UID:665-1504310400-1505001599@grenadaadventist.org
SUMMARY:Family Togetherness Week
DESCRIPTION:
URL:https://grenadaadventist.org/event/family-togetherness-week/
CATEGORIES:Family Life
END:VEVENT
BEGIN:VEVENT
DTSTART;VALUE=DATE:20170827
DTEND;VALUE=DATE:20170828
DTSTAMP:20260423T210704
CREATED:20170622T234637Z
LAST-MODIFIED:20170622T234637Z
UID:627-1503792000-1503878399@grenadaadventist.org
SUMMARY:Father Daughter - TBA
DESCRIPTION:
URL:https://grenadaadventist.org/event/father-daughter-tba/
CATEGORIES:Family Life
END:VEVENT
END:VCALENDAR