BEGIN:VCALENDAR
VERSION:2.0
PRODID:-//Grenada Conference of Seventh Day Adventists - ECPv6.15.20//NONSGML v1.0//EN
CALSCALE:GREGORIAN
METHOD:PUBLISH
X-ORIGINAL-URL:https://grenadaadventist.org
X-WR-CALDESC:Events for Grenada Conference of Seventh Day Adventists
REFRESH-INTERVAL;VALUE=DURATION:PT1H
X-Robots-Tag:noindex
X-PUBLISHED-TTL:PT1H
BEGIN:VTIMEZONE
TZID:UTC
BEGIN:STANDARD
TZOFFSETFROM:+0000
TZOFFSETTO:+0000
TZNAME:UTC
DTSTART:20160101T000000
END:STANDARD
END:VTIMEZONE
BEGIN:VEVENT
DTSTART;VALUE=DATE:20190427
DTEND;VALUE=DATE:20190428
DTSTAMP:20260423T160548
CREATED:20190212T200228Z
LAST-MODIFIED:20190212T200228Z
UID:3046-1556323200-1556409599@grenadaadventist.org
SUMMARY:Special Needs Awareness Day
DESCRIPTION:
URL:https://grenadaadventist.org/event/special-needs-awareness-day/
CATEGORIES:Communication,Education,Health,Stewardship
END:VEVENT
BEGIN:VEVENT
DTSTART;VALUE=DATE:20190420
DTEND;VALUE=DATE:20190421
DTSTAMP:20260423T160548
CREATED:20190212T195845Z
LAST-MODIFIED:20190212T195845Z
UID:3042-1555718400-1555804799@grenadaadventist.org
SUMMARY:Mental Health Emphasis Southern Symposium
DESCRIPTION:
URL:https://grenadaadventist.org/event/mental-health-emphasis-southern-symposium/
CATEGORIES:Education,Family Life,Health
END:VEVENT
BEGIN:VEVENT
DTSTART;TZID=UTC:20190407T080000
DTEND;TZID=UTC:20190421T170000
DTSTAMP:20260423T160548
CREATED:20190212T195111Z
LAST-MODIFIED:20190212T195111Z
UID:3030-1554624000-1555866000@grenadaadventist.org
SUMMARY:National Medical Missionaries Training
DESCRIPTION:
URL:https://grenadaadventist.org/event/national-medical-missionaries-training/
CATEGORIES:Education,Health
END:VEVENT
BEGIN:VEVENT
DTSTART;VALUE=DATE:20190406
DTEND;VALUE=DATE:20190407
DTSTAMP:20260423T160548
CREATED:20190212T195008Z
LAST-MODIFIED:20190212T195008Z
UID:3028-1554508800-1554595199@grenadaadventist.org
SUMMARY:Singles Women’s Retreat
DESCRIPTION:
URL:https://grenadaadventist.org/event/singles-womens-retreat/
CATEGORIES:Education,Family Life,Womens Ministry
END:VEVENT
BEGIN:VEVENT
DTSTART;TZID=UTC:20190401T080000
DTEND;TZID=UTC:20190421T170000
DTSTAMP:20260423T160548
CREATED:20190212T194823Z
LAST-MODIFIED:20190212T194823Z
UID:3024-1554105600-1555866000@grenadaadventist.org
SUMMARY:21 Days of Literature Distribution
DESCRIPTION:
URL:https://grenadaadventist.org/event/21-days-of-literature-distribution/
LOCATION:All Pastoral Districts\, Grenada
CATEGORIES:Community Services,Education,Personal Ministries
END:VEVENT
BEGIN:VEVENT
DTSTART;VALUE=DATE:20190330
DTEND;VALUE=DATE:20190331
DTSTAMP:20260423T160548
CREATED:20190212T194636Z
LAST-MODIFIED:20190212T194636Z
UID:3022-1553904000-1553990399@grenadaadventist.org
SUMMARY:Bible Workers Congress
DESCRIPTION:
URL:https://grenadaadventist.org/event/bible-workers-congress/
CATEGORIES:Education,Ministerial,Personal Ministries,Stewardship
END:VEVENT
BEGIN:VEVENT
DTSTART;TZID=UTC:20190324T080000
DTEND;TZID=UTC:20190330T170000
DTSTAMP:20260423T160548
CREATED:20190212T194119Z
LAST-MODIFIED:20190212T194119Z
UID:3018-1553414400-1553965200@grenadaadventist.org
SUMMARY:Total Youth Involvement (TYI/LTM)
DESCRIPTION:
URL:https://grenadaadventist.org/event/total-youth-involvement-tyi-ltm/
LOCATION:All Pastoral Districts\, Grenada
CATEGORIES:Education,Personal Ministries,Stewardship,Youth Ministry
END:VEVENT
BEGIN:VEVENT
DTSTART;TZID=UTC:20190323T080000
DTEND;TZID=UTC:20190323T170000
DTSTAMP:20260423T160548
CREATED:20190212T194017Z
LAST-MODIFIED:20190212T194017Z
UID:3016-1553328000-1553360400@grenadaadventist.org
SUMMARY:National SDA Education Rally
DESCRIPTION:
URL:https://grenadaadventist.org/event/national-sda-education-rally/
CATEGORIES:Education
END:VEVENT
BEGIN:VEVENT
DTSTART;VALUE=DATE:20190323
DTEND;VALUE=DATE:20190324
DTSTAMP:20260423T160548
CREATED:20190212T193944Z
LAST-MODIFIED:20190212T193944Z
UID:3014-1553299200-1553385599@grenadaadventist.org
SUMMARY:Christian Education Day
DESCRIPTION:
URL:https://grenadaadventist.org/event/christian-education-day/
LOCATION:All Pastoral Districts\, Grenada
CATEGORIES:Education
END:VEVENT
BEGIN:VEVENT
DTSTART;VALUE=DATE:20190317
DTEND;VALUE=DATE:20190318
DTSTAMP:20260423T160548
CREATED:20190212T193756Z
LAST-MODIFIED:20190212T193756Z
UID:3010-1552780800-1552867199@grenadaadventist.org
SUMMARY:Launch Faith Farming (Food Always In The Home)
DESCRIPTION:
URL:https://grenadaadventist.org/event/launch-faith-farming-food-always-in-the-home/
LOCATION:All Pastoral Districts\, Grenada
CATEGORIES:Education,Family Life,Health
END:VEVENT
BEGIN:VEVENT
DTSTART;VALUE=DATE:20190309
DTEND;VALUE=DATE:20190310
DTSTAMP:20260423T160548
CREATED:20190212T193310Z
LAST-MODIFIED:20190212T193310Z
UID:2998-1552089600-1552175999@grenadaadventist.org
SUMMARY:Mental Health Emphasis Northern Symposium
DESCRIPTION:
URL:https://grenadaadventist.org/event/mental-health-emphasis-northern-symposium/
CATEGORIES:Education,Family Life,Health
END:VEVENT
BEGIN:VEVENT
DTSTART;VALUE=DATE:20190223
DTEND;VALUE=DATE:20190224
DTSTAMP:20260423T160548
CREATED:20190212T192647Z
LAST-MODIFIED:20190212T192647Z
UID:2988-1550880000-1550966399@grenadaadventist.org
SUMMARY:ASI Awareness Day
DESCRIPTION:
URL:https://grenadaadventist.org/event/asi-awareness-day/
CATEGORIES:Education,Personal Ministries,Stewardship
END:VEVENT
BEGIN:VEVENT
DTSTART;VALUE=DATE:20190209
DTEND;VALUE=DATE:20190217
DTSTAMP:20260423T160548
CREATED:20190212T191946Z
LAST-MODIFIED:20190212T191946Z
UID:2978-1549670400-1550361599@grenadaadventist.org
SUMMARY:Christian Home and Marriage Week
DESCRIPTION:
URL:https://grenadaadventist.org/event/christian-home-and-marriage-week-2/
CATEGORIES:Education,Family Life,Men's Ministry,Ministerial,Womens Ministry
END:VEVENT
BEGIN:VEVENT
DTSTART;TZID=UTC:20180223T080000
DTEND;TZID=UTC:20180225T170000
DTSTAMP:20260423T160548
CREATED:20180115T210449Z
LAST-MODIFIED:20180115T210449Z
UID:2039-1519372800-1519578000@grenadaadventist.org
SUMMARY:Teachers and VS Directors Training
DESCRIPTION:
URL:https://grenadaadventist.org/event/teachers-and-vs-directors-training/
LOCATION:Sams Inn\, Grenada
CATEGORIES:Childrens Ministry,Education,Sabbath School
END:VEVENT
BEGIN:VEVENT
DTSTART;VALUE=DATE:20180217
DTEND;VALUE=DATE:20180218
DTSTAMP:20260423T160548
CREATED:20180115T210244Z
LAST-MODIFIED:20180115T210244Z
UID:2037-1518825600-1518911999@grenadaadventist.org
SUMMARY:Education Workshop
DESCRIPTION:
URL:https://grenadaadventist.org/event/education-workshop/
CATEGORIES:Education
END:VEVENT
BEGIN:VEVENT
DTSTART;TZID=UTC:20180210T080000
DTEND;TZID=UTC:20180217T170000
DTSTAMP:20260423T160548
CREATED:20180115T205838Z
LAST-MODIFIED:20180115T205838Z
UID:2031-1518249600-1518886800@grenadaadventist.org
SUMMARY:Christian Home and Marriage Week
DESCRIPTION:
URL:https://grenadaadventist.org/event/christian-home-and-marriage-week/
CATEGORIES:Education,Family Life,Stewardship
END:VEVENT
BEGIN:VEVENT
DTSTART;TZID=UTC:20180204T080000
DTEND;TZID=UTC:20180210T170000
DTSTAMP:20260423T160548
CREATED:20180115T205434Z
LAST-MODIFIED:20180115T205434Z
UID:2025-1517731200-1518282000@grenadaadventist.org
SUMMARY:STI Awareness Week
DESCRIPTION:
URL:https://grenadaadventist.org/event/sti-awareness-week/
CATEGORIES:Education,Family Life,Health
END:VEVENT
BEGIN:VEVENT
DTSTART;VALUE=DATE:20171014
DTEND;VALUE=DATE:20171015
DTSTAMP:20260423T160548
CREATED:20170623T204052Z
LAST-MODIFIED:20170623T204052Z
UID:701-1507939200-1508025599@grenadaadventist.org
SUMMARY:Spirit of Prophecy and Adventist Heritage
DESCRIPTION:
URL:https://grenadaadventist.org/event/spirit-of-prophecy-and-adventist-heritage/
CATEGORIES:Education
END:VEVENT
BEGIN:VEVENT
DTSTART;VALUE=DATE:20170819
DTEND;VALUE=DATE:20170820
DTSTAMP:20260423T160548
CREATED:20170622T233954Z
LAST-MODIFIED:20170622T233954Z
UID:615-1503100800-1503187199@grenadaadventist.org
SUMMARY:Education Day
DESCRIPTION:
URL:https://grenadaadventist.org/event/education-day/
CATEGORIES:Education
END:VEVENT
BEGIN:VEVENT
DTSTART;VALUE=DATE:20170722
DTEND;VALUE=DATE:20170723
DTSTAMP:20260423T160548
CREATED:20170622T222453Z
LAST-MODIFIED:20170622T223739Z
UID:595-1500681600-1500767999@grenadaadventist.org
SUMMARY:Steps to Christ Quiz
DESCRIPTION:
URL:https://grenadaadventist.org/event/steps-to-christ-quiz/
CATEGORIES:Education
END:VEVENT
END:VCALENDAR