BEGIN:VCALENDAR
VERSION:2.0
PRODID:-//Grenada Conference of Seventh Day Adventists - ECPv6.15.20//NONSGML v1.0//EN
CALSCALE:GREGORIAN
METHOD:PUBLISH
X-ORIGINAL-URL:https://grenadaadventist.org
X-WR-CALDESC:Events for Grenada Conference of Seventh Day Adventists
REFRESH-INTERVAL;VALUE=DURATION:PT1H
X-Robots-Tag:noindex
X-PUBLISHED-TTL:PT1H
BEGIN:VTIMEZONE
TZID:UTC
BEGIN:STANDARD
TZOFFSETFROM:+0000
TZOFFSETTO:+0000
TZNAME:UTC
DTSTART:20160101T000000
END:STANDARD
END:VTIMEZONE
BEGIN:VEVENT
DTSTART;VALUE=DATE:20190427
DTEND;VALUE=DATE:20190428
DTSTAMP:20260423T160522
CREATED:20190212T200228Z
LAST-MODIFIED:20190212T200228Z
UID:3046-1556323200-1556409599@grenadaadventist.org
SUMMARY:Special Needs Awareness Day
DESCRIPTION:
URL:https://grenadaadventist.org/event/special-needs-awareness-day/
CATEGORIES:Communication,Education,Health,Stewardship
END:VEVENT
BEGIN:VEVENT
DTSTART;VALUE=DATE:20190309
DTEND;VALUE=DATE:20190310
DTSTAMP:20260423T160522
CREATED:20190212T193220Z
LAST-MODIFIED:20190212T193220Z
UID:2996-1552089600-1552175999@grenadaadventist.org
SUMMARY:Adventist World Radio
DESCRIPTION:
URL:https://grenadaadventist.org/event/adventist-world-radio/
CATEGORIES:Communication,Ministerial
END:VEVENT
BEGIN:VEVENT
DTSTART;TZID=UTC:20180127T090000
DTEND;TZID=UTC:20180127T180000
DTSTAMP:20260423T160522
CREATED:20180115T204146Z
LAST-MODIFIED:20180115T204146Z
UID:2012-1517043600-1517076000@grenadaadventist.org
SUMMARY:Launch of Ingathering
DESCRIPTION:
URL:https://grenadaadventist.org/event/launch-of-ingathering/
LOCATION:All Churces\, Grenada
CATEGORIES:Communication,Community Services
END:VEVENT
BEGIN:VEVENT
DTSTART;VALUE=DATE:20171028
DTEND;VALUE=DATE:20171029
DTSTAMP:20260423T160522
CREATED:20170623T205600Z
LAST-MODIFIED:20170623T205600Z
UID:715-1509148800-1509235199@grenadaadventist.org
SUMMARY:Media Ministries Convention @ Grenville
DESCRIPTION:
URL:https://grenadaadventist.org/event/media-ministries-convention-grenville/
LOCATION:Grenville SDA\, Grenville\, St. Andrew\, Grenville\, Grenada
CATEGORIES:Communication
END:VEVENT
BEGIN:VEVENT
DTSTART;VALUE=DATE:20171006
DTEND;VALUE=DATE:20171029
DTSTAMP:20260423T160522
CREATED:20170623T203039Z
LAST-MODIFIED:20170623T203039Z
UID:693-1507248000-1509235199@grenadaadventist.org
SUMMARY:Media Ministries Online Crusade
DESCRIPTION:
URL:https://grenadaadventist.org/event/media-ministries-online-crusade/
CATEGORIES:Communication,Personal Ministries
END:VEVENT
BEGIN:VEVENT
DTSTART;VALUE=DATE:20170715
DTEND;VALUE=DATE:20170716
DTSTAMP:20260423T160522
CREATED:20170622T221537Z
LAST-MODIFIED:20170622T221537Z
UID:588-1500076800-1500163199@grenadaadventist.org
SUMMARY:Reach the World: Media Ministry
DESCRIPTION:
URL:https://grenadaadventist.org/event/reach-the-world-media-ministry/
CATEGORIES:Communication,Personal Ministries
END:VEVENT
END:VCALENDAR